BEGIN:VCALENDAR
VERSION:2.0
PRODID:-//www.whiskers-n-paws.org//NONSGML kigkonsult.se iCalcreator 2.30.1
 0//
CALSCALE:GREGORIAN
METHOD:PUBLISH
UID:daca944e-62f0-46a4-b394-8017622f1cf2
X-WR-CALDESC:
X-WR-RELCALID:07979574a1b815d842389c157f37f105
X-WR-TIMEZONE:America/New_York
BEGIN:VTIMEZONE
TZID:America/New_York
BEGIN:STANDARD
TZNAME:EST
DTSTART:20241103T020000
TZOFFSETFROM:-0400
TZOFFSETTO:-0500
RDATE:20251102T020000
RDATE:20261101T020000
END:STANDARD
BEGIN:DAYLIGHT
TZNAME:EDT
DTSTART:20250309T020000
TZOFFSETFROM:-0500
TZOFFSETTO:-0400
RDATE:20260308T020000
RDATE:20270314T020000
END:DAYLIGHT
END:VTIMEZONE
BEGIN:VEVENT
UID:4a1dfdcc-f743-46fb-8425-9dbeef5e3aa9
DTSTAMP:20260421T154907Z
DESCRIPTION:
DTSTART;TZID=America/New_York:20251101T083000
DTEND;TZID=America/New_York:20251101T223000
LOCATION:12 The Crescent\, Newnan\, GA 30263 US
SUMMARY:HELP Vaccine Clinic
END:VEVENT
END:VCALENDAR
