BEGIN:VCALENDAR
VERSION:2.0
PRODID:-//www.whiskers-n-paws.org//NONSGML kigkonsult.se iCalcreator 2.30.1
 0//
CALSCALE:GREGORIAN
METHOD:PUBLISH
UID:5fb4c12b-89e5-40c6-9d5d-dd4d92fb756b
X-WR-CALDESC:
X-WR-RELCALID:7d04bbd799a0ae75edd0a23bd5775dc5
X-WR-TIMEZONE:America/New_York
BEGIN:VTIMEZONE
TZID:America/New_York
BEGIN:STANDARD
TZNAME:EST
DTSTART:20241103T020000
TZOFFSETFROM:-0400
TZOFFSETTO:-0500
RDATE:20251102T020000
RDATE:20261101T020000
END:STANDARD
BEGIN:DAYLIGHT
TZNAME:EDT
DTSTART:20250309T020000
TZOFFSETFROM:-0500
TZOFFSETTO:-0400
RDATE:20260308T020000
RDATE:20270314T020000
END:DAYLIGHT
END:VTIMEZONE
BEGIN:VEVENT
UID:9b1113f3-8067-4b5a-81bd-cf8ffe01cc5f
DTSTAMP:20260421T174222Z
DESCRIPTION:
DTSTART;TZID=America/New_York:20251004T083000
DTEND;TZID=America/New_York:20251004T223000
LOCATION:12 The Crescent\, Newnan\, GA 30263 US
SUMMARY:HELP Vaccine Clinic
END:VEVENT
END:VCALENDAR
