BEGIN:VCALENDAR
VERSION:2.0
PRODID:-//www.whiskers-n-paws.org//NONSGML kigkonsult.se iCalcreator 2.30.1
 0//
CALSCALE:GREGORIAN
METHOD:PUBLISH
UID:9718864e-0a3c-43aa-abed-0a3e3a4a7728
X-WR-CALDESC:
X-WR-RELCALID:7c39fda03b675627577c5b9b83e292af
X-WR-TIMEZONE:America/New_York
BEGIN:VTIMEZONE
TZID:America/New_York
BEGIN:STANDARD
TZNAME:EST
DTSTART:20241103T020000
TZOFFSETFROM:-0400
TZOFFSETTO:-0500
RDATE:20251102T020000
RDATE:20261101T020000
END:STANDARD
BEGIN:DAYLIGHT
TZNAME:EDT
DTSTART:20250309T020000
TZOFFSETFROM:-0500
TZOFFSETTO:-0400
RDATE:20260308T020000
END:DAYLIGHT
END:VTIMEZONE
BEGIN:VEVENT
UID:f8d986f5-5379-45b7-ba9d-3f25942b95a3
DTSTAMP:20260421T184134Z
DESCRIPTION:
DTSTART;TZID=America/New_York:20250906T083000
DTEND;TZID=America/New_York:20250906T223000
LOCATION:12 The Crescent\, Newnan\, GA 30263 US
SUMMARY:HELP Vaccine Clinic
END:VEVENT
END:VCALENDAR
