BEGIN:VCALENDAR
VERSION:2.0
PRODID:-//www.whiskers-n-paws.org//NONSGML kigkonsult.se iCalcreator 2.30.1
 0//
CALSCALE:GREGORIAN
METHOD:PUBLISH
UID:fc3446ff-1401-4b28-bc05-82f5e27811f8
X-WR-CALDESC:
X-WR-RELCALID:0d922ae0059de87022e9ee101810ae89
X-WR-TIMEZONE:America/New_York
BEGIN:VTIMEZONE
TZID:America/New_York
BEGIN:STANDARD
TZNAME:EST
DTSTART:20241103T020000
TZOFFSETFROM:-0400
TZOFFSETTO:-0500
RDATE:20251102T020000
RDATE:20261101T020000
END:STANDARD
BEGIN:DAYLIGHT
TZNAME:EDT
DTSTART:20250309T020000
TZOFFSETFROM:-0500
TZOFFSETTO:-0400
RDATE:20260308T020000
END:DAYLIGHT
END:VTIMEZONE
BEGIN:VEVENT
UID:73857553-fb8d-44f1-8553-d4ed3bc6ad8e
DTSTAMP:20260421T220003Z
DESCRIPTION:
DTSTART;TZID=America/New_York:20250712T083000
DTEND;TZID=America/New_York:20250712T223000
LOCATION:12 The Crescent\, Newnan\, GA 30263 US
SUMMARY:HELP Vaccine Clinic
END:VEVENT
END:VCALENDAR
