BEGIN:VCALENDAR
VERSION:2.0
PRODID:-//www.whiskers-n-paws.org//NONSGML kigkonsult.se iCalcreator 2.30.1
 0//
CALSCALE:GREGORIAN
METHOD:PUBLISH
UID:10ab34c9-d4e3-41b7-9449-5ae0c4ff0e6b
X-WR-CALDESC:
X-WR-RELCALID:3eb4ae91d6ce2c67f42dae3878a1629a
X-WR-TIMEZONE:America/New_York
BEGIN:VTIMEZONE
TZID:America/New_York
BEGIN:STANDARD
TZNAME:EST
DTSTART:20241103T020000
TZOFFSETFROM:-0400
TZOFFSETTO:-0500
RDATE:20251102T020000
RDATE:20261101T020000
END:STANDARD
BEGIN:DAYLIGHT
TZNAME:EDT
DTSTART:20250309T020000
TZOFFSETFROM:-0500
TZOFFSETTO:-0400
RDATE:20260308T020000
END:DAYLIGHT
END:VTIMEZONE
BEGIN:VEVENT
UID:cb4a2f05-db31-4cfc-9b01-e6411b4356a1
DTSTAMP:20260421T234751Z
DESCRIPTION:
DTSTART;TZID=America/New_York:20250628T083000
DTEND;TZID=America/New_York:20250628T223000
LOCATION:12 The Crescent\, Newnan\, GA 30263 US
SUMMARY:HELP Vaccine Clinic
END:VEVENT
END:VCALENDAR
