BEGIN:VCALENDAR
VERSION:2.0
PRODID:-//www.whiskers-n-paws.org//NONSGML kigkonsult.se iCalcreator 2.30.1
 0//
CALSCALE:GREGORIAN
METHOD:PUBLISH
UID:9fd4de03-89a9-4181-8132-470bc23d8490
X-WR-CALDESC:This 60-minute session will teach you the basics for humanely 
 trapping community cats. Participants will learn how to use the drop trap\
 , transfer cage\, and the live trap at this session.
X-WR-RELCALID:7c765858a3cb703627ca2475e21b3bb0
X-WR-TIMEZONE:America/New_York
BEGIN:VTIMEZONE
TZID:America/New_York
BEGIN:STANDARD
TZNAME:EST
DTSTART:20211107T020000
TZOFFSETFROM:-0400
TZOFFSETTO:-0500
RDATE:20221106T020000
RDATE:20231105T020000
END:STANDARD
BEGIN:DAYLIGHT
TZNAME:EDT
DTSTART:20220313T020000
TZOFFSETFROM:-0500
TZOFFSETTO:-0400
RDATE:20230312T020000
RDATE:20240310T020000
END:DAYLIGHT
END:VTIMEZONE
BEGIN:VEVENT
UID:461b0e9b-e0c9-46b3-be2e-78de510bbcde
DTSTAMP:20260424T062911Z
DESCRIPTION:This 60-minute session will teach you the basics for humanely t
 rapping community cats. Participants will learn how to use the drop trap\,
  transfer cage\, and the live trap at this session.
DTSTART;TZID=America/New_York:20220910T100000
DTEND;TZID=America/New_York:20220910T110000
LOCATION:608 US-29 N\, Newnan\, GA 30263 US
SUMMARY:Trapping Class
END:VEVENT
END:VCALENDAR
