BEGIN:VCALENDAR
VERSION:2.0
PRODID:-//www.whiskers-n-paws.org//NONSGML kigkonsult.se iCalcreator 2.30.1
 0//
CALSCALE:GREGORIAN
METHOD:PUBLISH
UID:e5898b7a-8f55-49ad-8e40-f4551b38c201
X-WR-CALDESC:Due to COVID-19\, our entire flow has changed.  We will now ta
 ke appointments for our Saturday vaccine clinic.  Each appointment will be
  ten minutes long.  You will need to schedule your pet's appointment from 
 the HELP Spay Neuter Clinic link below:\n
X-WR-RELCALID:f38e451ef2040585bc34a078d70a1684
X-WR-TIMEZONE:America/New_York
BEGIN:VTIMEZONE
TZID:America/New_York
BEGIN:STANDARD
TZNAME:EST
DTSTART:20211107T020000
TZOFFSETFROM:-0400
TZOFFSETTO:-0500
RDATE:20221106T020000
RDATE:20231105T020000
END:STANDARD
BEGIN:DAYLIGHT
TZNAME:EDT
DTSTART:20220313T020000
TZOFFSETFROM:-0500
TZOFFSETTO:-0400
RDATE:20230312T020000
END:DAYLIGHT
END:VTIMEZONE
BEGIN:VEVENT
UID:97d87b10-6bb5-4c2e-9400-fa504f4f0623
DTSTAMP:20260424T095152Z
DESCRIPTION:Due to COVID-19\, our entire flow has changed.  We will now tak
 e appointments for our Saturday vaccine clinic.  Each appointment will be 
 ten minutes long.  You will need to schedule your pet's appointment from t
 he HELP Spay Neuter Clinic link below:\n
DTSTART;TZID=America/New_York:20220730T090000
DTEND;TZID=America/New_York:20220730T100000
LOCATION:
SUMMARY:HELP Vaccine Clinic
END:VEVENT
END:VCALENDAR
